Package: LinkHD Version: 1.23.0 Command: rm -rf LinkHD.buildbin-libdir && mkdir LinkHD.buildbin-libdir && F:\biocbuild\bbs-3.22-bioc\R\bin\R.exe CMD INSTALL --build --library=LinkHD.buildbin-libdir LinkHD_1.23.0.tar.gz StartedAt: 2025-08-15 10:35:17 -0400 (Fri, 15 Aug 2025) EndedAt: 2025-08-15 10:36:09 -0400 (Fri, 15 Aug 2025) EllapsedTime: 51.5 seconds RetCode: 0 Status: OK PackageFile: LinkHD_1.23.0.zip PackageFileSize: 1.525 MiB