Package: LinkHD Version: 1.23.0 Command: /home/biocbuild/bbs-3.22-bioc/R/bin/R CMD INSTALL LinkHD StartedAt: 2025-10-19 15:24:49 -0400 (Sun, 19 Oct 2025) EndedAt: 2025-10-19 15:25:15 -0400 (Sun, 19 Oct 2025) EllapsedTime: 26.7 seconds RetCode: 0 Status: OK