Package: LinkHD Version: 1.23.0 Command: /Library/Frameworks/R.framework/Resources/bin/R CMD INSTALL LinkHD StartedAt: 2025-10-19 15:25:43 -0400 (Sun, 19 Oct 2025) EndedAt: 2025-10-19 15:26:22 -0400 (Sun, 19 Oct 2025) EllapsedTime: 38.5 seconds RetCode: 0 Status: OK