Package: LinTInd Version: 1.13.1 Command: /home/biocbuild/bbs-3.22-bioc/R/bin/R CMD build --keep-empty-dirs --no-resave-data --md5 LinTInd StartedAt: 2025-10-01 18:43:51 -0400 (Wed, 01 Oct 2025) EndedAt: 2025-10-01 18:44:17 -0400 (Wed, 01 Oct 2025) EllapsedTime: 26.0 seconds RetCode: 1 Status: ERROR PackageFile: None PackageFileSize: NA