Package: LinTInd Version: 1.13.1 Command: /Library/Frameworks/R.framework/Resources/bin/R CMD INSTALL LinTInd StartedAt: 2025-10-01 15:27:19 -0400 (Wed, 01 Oct 2025) EndedAt: 2025-10-01 15:27:26 -0400 (Wed, 01 Oct 2025) EllapsedTime: 7.3 seconds RetCode: 0 Status: OK