Package: LinTInd Version: 1.13.0 Command: /Library/Frameworks/R.framework/Resources/bin/R CMD check --install=check:LinTInd.install-out.txt --library=/Library/Frameworks/R.framework/Resources/library --no-vignettes --timings LinTInd_1.13.0.tar.gz StartedAt: 2025-05-08 20:18:22 -0400 (Thu, 08 May 2025) EndedAt: 2025-05-08 20:19:18 -0400 (Thu, 08 May 2025) EllapsedTime: 55.8 seconds RetCode: 0 Status: OK CheckDir: LinTInd.Rcheck Warnings: 0