Package: LinTInd Version: 1.13.1 Command: /Library/Frameworks/R.framework/Resources/bin/R CMD build --keep-empty-dirs --no-resave-data LinTInd StartedAt: 2025-10-01 16:53:13 -0400 (Wed, 01 Oct 2025) EndedAt: 2025-10-01 16:53:24 -0400 (Wed, 01 Oct 2025) EllapsedTime: 11.1 seconds RetCode: 1 Status: ERROR PackageFile: None PackageFileSize: NA