Package: LimROTS Version: 1.1.4 Command: /home/biocbuild/R/R/bin/R CMD INSTALL LimROTS StartedAt: 2025-10-23 21:16:38 -0000 (Thu, 23 Oct 2025) EndedAt: 2025-10-23 21:17:12 -0000 (Thu, 23 Oct 2025) EllapsedTime: 33.9 seconds RetCode: 0 Status: OK