Package: LimROTS Version: 1.1.4 Command: /home/biocbuild/R/R/bin/R CMD build --keep-empty-dirs --no-resave-data LimROTS StartedAt: 2025-10-21 00:47:51 -0000 (Tue, 21 Oct 2025) EndedAt: 2025-10-21 00:49:35 -0000 (Tue, 21 Oct 2025) EllapsedTime: 104.0 seconds RetCode: 0 Status: OK PackageFile: LimROTS_1.1.4.tar.gz PackageFileSize: 648.6 KiB