Package: LimROTS Version: 1.1.4 Command: rm -rf LimROTS.buildbin-libdir && mkdir LimROTS.buildbin-libdir && F:\biocbuild\bbs-3.22-bioc\R\bin\R.exe CMD INSTALL --build --library=LimROTS.buildbin-libdir LimROTS_1.1.4.tar.gz StartedAt: 2025-08-15 10:35:14 -0400 (Fri, 15 Aug 2025) EndedAt: 2025-08-15 10:35:50 -0400 (Fri, 15 Aug 2025) EllapsedTime: 36.1 seconds RetCode: 0 Status: OK PackageFile: LimROTS_1.1.4.zip PackageFileSize: 610.1 KiB