Package: LimROTS Version: 1.1.4 Command: /Library/Frameworks/R.framework/Resources/bin/R CMD check --install=check:LimROTS.install-out.txt --library=/Library/Frameworks/R.framework/Resources/library --no-vignettes --timings LimROTS_1.1.4.tar.gz StartedAt: 2025-10-02 22:23:27 -0400 (Thu, 02 Oct 2025) EndedAt: 2025-10-02 22:27:19 -0400 (Thu, 02 Oct 2025) EllapsedTime: 232.4 seconds RetCode: 0 Status: OK CheckDir: LimROTS.Rcheck Warnings: 0