Package: LimROTS Version: 1.1.4 Command: /Library/Frameworks/R.framework/Resources/bin/R CMD build --keep-empty-dirs --no-resave-data LimROTS StartedAt: 2025-10-02 17:34:32 -0400 (Thu, 02 Oct 2025) EndedAt: 2025-10-02 17:36:15 -0400 (Thu, 02 Oct 2025) EllapsedTime: 102.4 seconds RetCode: 0 Status: OK PackageFile: LimROTS_1.1.4.tar.gz PackageFileSize: 773.2 KiB