Package: LimROTS Version: 1.1.4 Command: /Library/Frameworks/R.framework/Resources/bin/R CMD build --keep-empty-dirs --no-resave-data LimROTS StartedAt: 2025-10-24 16:52:43 -0400 (Fri, 24 Oct 2025) EndedAt: 2025-10-24 16:53:16 -0400 (Fri, 24 Oct 2025) EllapsedTime: 32.4 seconds RetCode: 0 Status: OK PackageFile: LimROTS_1.1.4.tar.gz PackageFileSize: 774.7 KiB