Package: LimROTS Version: 1.1.4 Command: rm -rf LimROTS.buildbin-libdir && mkdir LimROTS.buildbin-libdir && /Users/biocbuild/BBS/utils/build-universal.sh LimROTS_1.1.4.tar.gz /Library/Frameworks/R.framework/Resources/bin/R LimROTS.buildbin-libdir StartedAt: 2025-10-24 23:07:51 -0400 (Fri, 24 Oct 2025) EndedAt: 2025-10-24 23:08:02 -0400 (Fri, 24 Oct 2025) EllapsedTime: 11.2 seconds RetCode: 0 Status: OK PackageFile: LimROTS_1.1.4.tgz PackageFileSize: 836.3 KiB