Package: Lheuristic Version: 1.1.0 Command: /home/biocbuild/R/R/bin/R CMD INSTALL Lheuristic StartedAt: 2025-10-16 21:37:57 -0000 (Thu, 16 Oct 2025) EndedAt: 2025-10-16 21:38:33 -0000 (Thu, 16 Oct 2025) EllapsedTime: 35.7 seconds RetCode: 0 Status: OK