Package: Lheuristic Version: 1.1.0 Command: /home/biocbuild/R/R/bin/R CMD build --keep-empty-dirs --no-resave-data Lheuristic StartedAt: 2025-10-17 02:12:24 -0000 (Fri, 17 Oct 2025) EndedAt: 2025-10-17 02:13:23 -0000 (Fri, 17 Oct 2025) EllapsedTime: 59.0 seconds RetCode: 0 Status: OK PackageFile: Lheuristic_1.1.0.tar.gz PackageFileSize: 446 KiB