Package: Lheuristic Version: 1.1.0 Command: rm -rf Lheuristic.buildbin-libdir && mkdir Lheuristic.buildbin-libdir && F:\biocbuild\bbs-3.22-bioc\R\bin\R.exe CMD INSTALL --build --library=Lheuristic.buildbin-libdir Lheuristic_1.1.0.tar.gz StartedAt: 2025-08-15 10:35:02 -0400 (Fri, 15 Aug 2025) EndedAt: 2025-08-15 10:35:51 -0400 (Fri, 15 Aug 2025) EllapsedTime: 48.8 seconds RetCode: 0 Status: OK PackageFile: Lheuristic_1.1.0.zip PackageFileSize: 463.7 KiB