Package: Lheuristic Version: 1.1.0 Command: /home/biocbuild/bbs-3.22-bioc/R/bin/R CMD INSTALL Lheuristic StartedAt: 2025-10-19 15:25:08 -0400 (Sun, 19 Oct 2025) EndedAt: 2025-10-19 15:25:35 -0400 (Sun, 19 Oct 2025) EllapsedTime: 26.2 seconds RetCode: 0 Status: OK