Package: Lheuristic Version: 1.1.0 Command: /home/biocbuild/bbs-3.22-bioc/R/bin/R CMD check --install=check:Lheuristic.install-out.txt --library=/home/biocbuild/bbs-3.22-bioc/R/site-library --timings Lheuristic_1.1.0.tar.gz StartedAt: 2025-10-20 01:21:07 -0400 (Mon, 20 Oct 2025) EndedAt: 2025-10-20 01:24:29 -0400 (Mon, 20 Oct 2025) EllapsedTime: 202.2 seconds RetCode: 0 Status: OK CheckDir: Lheuristic.Rcheck Warnings: 0