Package: Lheuristic Version: 1.1.0 Command: /Library/Frameworks/R.framework/Resources/bin/R CMD INSTALL Lheuristic StartedAt: 2025-10-19 15:25:56 -0400 (Sun, 19 Oct 2025) EndedAt: 2025-10-19 15:26:32 -0400 (Sun, 19 Oct 2025) EllapsedTime: 36.3 seconds RetCode: 0 Status: OK