Package: Lheuristic Version: 1.1.0 Command: /Library/Frameworks/R.framework/Resources/bin/R CMD check --install=check:Lheuristic.install-out.txt --library=/Library/Frameworks/R.framework/Resources/library --no-vignettes --timings Lheuristic_1.1.0.tar.gz StartedAt: 2025-10-19 23:24:24 -0400 (Sun, 19 Oct 2025) EndedAt: 2025-10-19 23:28:26 -0400 (Sun, 19 Oct 2025) EllapsedTime: 242.4 seconds RetCode: 0 Status: OK CheckDir: Lheuristic.Rcheck Warnings: 0