Package: Lheuristic Version: 1.1.0 Command: /Library/Frameworks/R.framework/Resources/bin/R CMD build --keep-empty-dirs --no-resave-data Lheuristic StartedAt: 2025-10-19 17:50:01 -0400 (Sun, 19 Oct 2025) EndedAt: 2025-10-19 17:51:06 -0400 (Sun, 19 Oct 2025) EllapsedTime: 64.6 seconds RetCode: 0 Status: OK PackageFile: Lheuristic_1.1.0.tar.gz PackageFileSize: 608.8 KiB