Package: Lheuristic Version: 1.1.0 Command: rm -rf Lheuristic.buildbin-libdir && mkdir Lheuristic.buildbin-libdir && /Users/biocbuild/BBS/utils/build-universal.sh Lheuristic_1.1.0.tar.gz /Library/Frameworks/R.framework/Resources/bin/R Lheuristic.buildbin-libdir StartedAt: 2025-10-20 03:16:11 -0400 (Mon, 20 Oct 2025) EndedAt: 2025-10-20 03:16:51 -0400 (Mon, 20 Oct 2025) EllapsedTime: 40.6 seconds RetCode: 0 Status: OK PackageFile: Lheuristic_1.1.0.tgz PackageFileSize: 663.6 KiB