Package: Lheuristic Version: 1.1.0 Command: rm -rf Lheuristic.buildbin-libdir && mkdir Lheuristic.buildbin-libdir && /Users/biocbuild/BBS/utils/build-universal.sh Lheuristic_1.1.0.tar.gz /Library/Frameworks/R.framework/Resources/bin/R Lheuristic.buildbin-libdir StartedAt: 2025-10-19 23:04:25 -0400 (Sun, 19 Oct 2025) EndedAt: 2025-10-19 23:04:37 -0400 (Sun, 19 Oct 2025) EllapsedTime: 12.3 seconds RetCode: 0 Status: OK PackageFile: Lheuristic_1.1.0.tgz PackageFileSize: 665.2 KiB