Package: Lheuristic Version: 1.1.0 Maintainer: Sanchez Pla Alex MaintainerEmail: asanchez at ub.edu git_url: https://git.bioconductor.org/packages/Lheuristic git_branch: devel git_last_commit: f8ceadc git_last_commit_date: 2025-04-15 13:50:38 -0400 (Tue, 15 Apr 2025)