Package: LRBaseDbi Version: 2.20.0 Command: rm -rf LRBaseDbi.buildbin-libdir && mkdir LRBaseDbi.buildbin-libdir && /Users/biocbuild/BBS/utils/build-universal.sh LRBaseDbi_2.20.0.tar.gz /Library/Frameworks/R.framework/Resources/bin/R LRBaseDbi.buildbin-libdir StartedAt: 2025-11-18 15:48:17 -0500 (Tue, 18 Nov 2025) EndedAt: 2025-11-18 15:48:24 -0500 (Tue, 18 Nov 2025) EllapsedTime: 7.1 seconds RetCode: 0 Status: OK PackageFile: LRBaseDbi_2.20.0.tgz PackageFileSize: 559 KiB