Package: LPE Version: 1.83.0 Command: /home/biocbuild/R/R/bin/R CMD INSTALL LPE StartedAt: 2025-10-16 21:09:49 -0000 (Thu, 16 Oct 2025) EndedAt: 2025-10-16 21:10:24 -0000 (Thu, 16 Oct 2025) EllapsedTime: 34.7 seconds RetCode: 0 Status: OK