Package: LPE Version: 1.83.0 Command: /home/biocbuild/R/R/bin/R CMD build --keep-empty-dirs --no-resave-data LPE StartedAt: 2025-10-17 02:15:19 -0000 (Fri, 17 Oct 2025) EndedAt: 2025-10-17 02:15:27 -0000 (Fri, 17 Oct 2025) EllapsedTime: 8.0 seconds RetCode: 0 Status: OK PackageFile: LPE_1.83.0.tar.gz PackageFileSize: 429.9 KiB