Package: LPE Version: 1.83.0 Command: F:\biocbuild\bbs-3.22-bioc\R\bin\R.exe CMD check --no-multiarch --install=check:LPE.install-out.txt --library=F:\biocbuild\bbs-3.22-bioc\R\library --no-vignettes --timings LPE_1.83.0.tar.gz StartedAt: 2025-08-15 04:40:29 -0400 (Fri, 15 Aug 2025) EndedAt: 2025-08-15 04:41:09 -0400 (Fri, 15 Aug 2025) EllapsedTime: 39.5 seconds RetCode: 0 Status: OK CheckDir: LPE.Rcheck Warnings: 0