Package: LPE Version: 1.83.0 Command: /home/biocbuild/bbs-3.22-bioc/R/bin/R CMD INSTALL LPE StartedAt: 2025-10-21 15:05:57 -0400 (Tue, 21 Oct 2025) EndedAt: 2025-10-21 15:06:14 -0400 (Tue, 21 Oct 2025) EllapsedTime: 16.6 seconds RetCode: 0 Status: OK