Package: LPE Version: 1.83.0 Command: /home/biocbuild/bbs-3.22-bioc/R/bin/R CMD check --install=check:LPE.install-out.txt --library=/home/biocbuild/bbs-3.22-bioc/R/site-library --timings LPE_1.83.0.tar.gz StartedAt: 2025-10-22 01:23:23 -0400 (Wed, 22 Oct 2025) EndedAt: 2025-10-22 01:23:48 -0400 (Wed, 22 Oct 2025) EllapsedTime: 25.0 seconds RetCode: 0 Status: OK CheckDir: LPE.Rcheck Warnings: 0