Package: LPE Version: 1.83.0 Command: /home/biocbuild/bbs-3.22-bioc/R/bin/R CMD build --keep-empty-dirs --no-resave-data --md5 LPE StartedAt: 2025-10-21 18:24:10 -0400 (Tue, 21 Oct 2025) EndedAt: 2025-10-21 18:24:17 -0400 (Tue, 21 Oct 2025) EllapsedTime: 7.0 seconds RetCode: 0 Status: OK PackageFile: LPE_1.83.0.tar.gz PackageFileSize: 437.7 KiB