Package: LPE Version: 1.83.0 Command: /Library/Frameworks/R.framework/Resources/bin/R CMD INSTALL LPE StartedAt: 2025-10-20 15:05:15 -0400 (Mon, 20 Oct 2025) EndedAt: 2025-10-20 15:05:55 -0400 (Mon, 20 Oct 2025) EllapsedTime: 40.0 seconds RetCode: 0 Status: OK