Package: LPE Version: 1.83.0 Command: /Library/Frameworks/R.framework/Resources/bin/R CMD INSTALL LPE StartedAt: 2025-10-19 15:01:52 -0400 (Sun, 19 Oct 2025) EndedAt: 2025-10-19 15:01:55 -0400 (Sun, 19 Oct 2025) EllapsedTime: 2.6 seconds RetCode: 0 Status: OK