Package: LPE Version: 1.83.0 Command: rm -rf LPE.buildbin-libdir && mkdir LPE.buildbin-libdir && /Users/biocbuild/BBS/utils/build-universal.sh LPE_1.83.0.tar.gz /Library/Frameworks/R.framework/Resources/bin/R LPE.buildbin-libdir StartedAt: 2025-10-19 23:04:38 -0400 (Sun, 19 Oct 2025) EndedAt: 2025-10-19 23:04:40 -0400 (Sun, 19 Oct 2025) EllapsedTime: 2.1 seconds RetCode: 0 Status: OK PackageFile: LPE_1.83.0.tgz PackageFileSize: 512.3 KiB