Package: LPE Version: 1.83.0 Maintainer: Nitin Jain MaintainerEmail: emailnitinjain at gmail.com git_url: https://git.bioconductor.org/packages/LPE git_branch: devel git_last_commit: 5581ec6 git_last_commit_date: 2025-04-15 09:17:18 -0400 (Tue, 15 Apr 2025)