Package: KnowSeq Version: 1.23.0 Command: /home/biocbuild/R/R/bin/R CMD INSTALL KnowSeq StartedAt: 2025-10-16 21:42:48 -0000 (Thu, 16 Oct 2025) EndedAt: 2025-10-16 21:43:30 -0000 (Thu, 16 Oct 2025) EllapsedTime: 42.0 seconds RetCode: 0 Status: OK