Package: KnowSeq Version: 1.23.0 Command: /home/biocbuild/bbs-3.22-bioc/R/bin/R CMD INSTALL KnowSeq StartedAt: 2025-10-19 15:29:44 -0400 (Sun, 19 Oct 2025) EndedAt: 2025-10-19 15:30:14 -0400 (Sun, 19 Oct 2025) EllapsedTime: 29.7 seconds RetCode: 0 Status: OK