Package: KnowSeq Version: 1.23.0 Command: /home/biocbuild/bbs-3.22-bioc/R/bin/R CMD build --keep-empty-dirs --no-resave-data --md5 KnowSeq StartedAt: 2025-10-19 18:20:37 -0400 (Sun, 19 Oct 2025) EndedAt: 2025-10-19 18:23:02 -0400 (Sun, 19 Oct 2025) EllapsedTime: 145.2 seconds RetCode: 0 Status: OK PackageFile: KnowSeq_1.23.0.tar.gz PackageFileSize: 8.222 MiB