Package: KnowSeq Version: 1.23.0 Command: /Library/Frameworks/R.framework/Resources/bin/R CMD INSTALL KnowSeq StartedAt: 2025-10-19 15:29:30 -0400 (Sun, 19 Oct 2025) EndedAt: 2025-10-19 15:30:13 -0400 (Sun, 19 Oct 2025) EllapsedTime: 43.0 seconds RetCode: 0 Status: OK