Package: KnowSeq Version: 1.23.0 Command: /Library/Frameworks/R.framework/Resources/bin/R CMD build --keep-empty-dirs --no-resave-data KnowSeq StartedAt: 2025-10-20 17:47:03 -0400 (Mon, 20 Oct 2025) EndedAt: 2025-10-20 17:51:04 -0400 (Mon, 20 Oct 2025) EllapsedTime: 241.4 seconds RetCode: 0 Status: OK PackageFile: KnowSeq_1.23.0.tar.gz PackageFileSize: 8.261 MiB