Package: KnowSeq Version: 1.23.0 Command: /Library/Frameworks/R.framework/Resources/bin/R CMD build --keep-empty-dirs --no-resave-data KnowSeq StartedAt: 2025-10-19 16:48:25 -0400 (Sun, 19 Oct 2025) EndedAt: 2025-10-19 16:49:50 -0400 (Sun, 19 Oct 2025) EllapsedTime: 85.0 seconds RetCode: 0 Status: OK PackageFile: KnowSeq_1.23.0.tar.gz PackageFileSize: 8.268 MiB