Package: KinSwingR Version: 1.27.0 Command: /home/biocbuild/R/R/bin/R CMD INSTALL KinSwingR StartedAt: 2025-09-29 20:34:29 -0000 (Mon, 29 Sep 2025) EndedAt: 2025-09-29 20:35:12 -0000 (Mon, 29 Sep 2025) EllapsedTime: 42.8 seconds RetCode: 0 Status: OK