Package: KEGGlincs Version: 1.35.0 Command: /home/biocbuild/R/R/bin/R CMD INSTALL KEGGlincs StartedAt: 2025-10-20 21:19:28 -0000 (Mon, 20 Oct 2025) EndedAt: 2025-10-20 21:19:52 -0000 (Mon, 20 Oct 2025) EllapsedTime: 23.8 seconds RetCode: 0 Status: OK