Package: KEGGlincs Version: 1.35.0 Command: /home/biocbuild/R/R/bin/R CMD check --install=check:KEGGlincs.install-out.txt --library=/home/biocbuild/R/R/site-library --no-vignettes --timings KEGGlincs_1.35.0.tar.gz StartedAt: 2025-10-17 10:28:28 -0000 (Fri, 17 Oct 2025) EndedAt: 2025-10-17 10:33:13 -0000 (Fri, 17 Oct 2025) EllapsedTime: 284.3 seconds RetCode: 0 Status: OK CheckDir: KEGGlincs.Rcheck Warnings: 0