Package: KEGGlincs Version: 1.35.0 Command: chmod a+r KEGGlincs -R && F:\biocbuild\bbs-3.22-bioc\R\bin\R.exe CMD build --keep-empty-dirs --no-resave-data KEGGlincs StartedAt: 2025-08-14 21:04:31 -0400 (Thu, 14 Aug 2025) EndedAt: 2025-08-14 21:05:44 -0400 (Thu, 14 Aug 2025) EllapsedTime: 72.4 seconds RetCode: 0 Status: OK PackageFile: KEGGlincs_1.35.0.tar.gz PackageFileSize: 4.215 MiB