Package: KEGGlincs Version: 1.35.0 Command: rm -rf KEGGlincs.buildbin-libdir && mkdir KEGGlincs.buildbin-libdir && F:\biocbuild\bbs-3.22-bioc\R\bin\R.exe CMD INSTALL --build --library=KEGGlincs.buildbin-libdir KEGGlincs_1.35.0.tar.gz StartedAt: 2025-08-15 10:33:59 -0400 (Fri, 15 Aug 2025) EndedAt: 2025-08-15 10:34:27 -0400 (Fri, 15 Aug 2025) EllapsedTime: 27.5 seconds RetCode: 0 Status: OK PackageFile: KEGGlincs_1.35.0.zip PackageFileSize: 2.277 MiB