Package: KEGGlincs Version: 1.35.0 Command: /Library/Frameworks/R.framework/Resources/bin/R CMD build --keep-empty-dirs --no-resave-data KEGGlincs StartedAt: 2025-10-23 17:27:47 -0400 (Thu, 23 Oct 2025) EndedAt: 2025-10-23 17:28:51 -0400 (Thu, 23 Oct 2025) EllapsedTime: 64.0 seconds RetCode: 0 Status: OK PackageFile: KEGGlincs_1.35.0.tar.gz PackageFileSize: 4.215 MiB