Package: KEGGlincs Version: 1.35.0 Command: /Library/Frameworks/R.framework/Resources/bin/R CMD INSTALL KEGGlincs StartedAt: 2025-10-23 15:28:46 -0400 (Thu, 23 Oct 2025) EndedAt: 2025-10-23 15:28:54 -0400 (Thu, 23 Oct 2025) EllapsedTime: 7.4 seconds RetCode: 0 Status: OK