Package: KEGGlincs Version: 1.35.0 Command: /Library/Frameworks/R.framework/Resources/bin/R CMD check --install=check:KEGGlincs.install-out.txt --library=/Library/Frameworks/R.framework/Resources/library --no-vignettes --timings KEGGlincs_1.35.0.tar.gz StartedAt: 2025-10-24 20:24:37 -0400 (Fri, 24 Oct 2025) EndedAt: 2025-10-24 20:26:10 -0400 (Fri, 24 Oct 2025) EllapsedTime: 93.2 seconds RetCode: 0 Status: OK CheckDir: KEGGlincs.Rcheck Warnings: 0